BEGIN:VCALENDAR
VERSION:2.0
PRODID:-//Restoring Light Ministries - ECPv6.15.13.1//NONSGML v1.0//EN
CALSCALE:GREGORIAN
METHOD:PUBLISH
X-ORIGINAL-URL:https://restoringlightministries.com
X-WR-CALDESC:Events for Restoring Light Ministries
REFRESH-INTERVAL;VALUE=DURATION:PT1H
X-Robots-Tag:noindex
X-PUBLISHED-TTL:PT1H
BEGIN:VTIMEZONE
TZID:UTC
BEGIN:STANDARD
TZOFFSETFROM:+0000
TZOFFSETTO:+0000
TZNAME:UTC
DTSTART:20240101T000000
END:STANDARD
END:VTIMEZONE
BEGIN:VEVENT
DTSTART;TZID=UTC:20250710T140000
DTEND;TZID=UTC:20250710T150000
DTSTAMP:20260419T125703
CREATED:20250702T141453Z
LAST-MODIFIED:20251202T161454Z
UID:7031-1752156000-1752159600@restoringlightministries.com
SUMMARY:Is Inner Healing Biblical? Zoom Workshop
DESCRIPTION:Is inner healing Biblical? This is a question that we are often asked & it’s a fair one that deserves a straight answer.\nYou are invited to join me for a free zoom class to discover how inner healing is grounded in biblical truth & why it is central to the gospel of the Kingdom.\nThe zoom link will be posted the day of the event. Feel free to invite your friends!
URL:https://restoringlightministries.com/event/is-inner-healing-biblical/
LOCATION:Zoom Call
END:VEVENT
END:VCALENDAR